Workbook
Name aude: #REF!
Name aude: #REF!
Name aude: #REF!
Name aude: #REF!
Name Code_Sites_Dossier: #REF!
Name Code_Sites_Dossier: #REF!
Name Code_Sites_Dossier: #REF!
Name fgh: #REF!
Name Financeurs: #REF!
Name Financeurs: #REF!
Name Financeurs: #REF!
Name Liste1: #REF!
Name Liste1: #REF!
Name Liste1: #REF!
Name Liste2: #REF!
Name Liste2: #REF!
Name Liste2: #REF!
Name Mesure: #REF!
Name Mesure: #REF!
Name Mesure: #REF!
Name Mesure: #REF!
Name Missions: #REF!
Name Missions: #REF!
Name Missions: #REF!
Name Modalité: #REF!
Name Modalité: #REF!
Name Modalité: #REF!
Name ouinon: '[1]BASE DE DONNEES'!$B$1:$B$2
Name Poste: #REF!
Name Poste: #REF!
Name Poste: #REF!
Name Régions: #REF!
Name Régions: #REF!
Name Régions: #REF!
Name Statut_Juridique: #REF!
Name Statut_Juridique: #REF!
Name Statut_Juridique: #REF!
Name Unité: #REF!
Name Unité: #REF!
Name Unité: #REF!

Sheet NOTICE
A1: DEMANDE D'AIDE
A2: FONDS EUROPEEN POUR LES AFFAIRES MARITIMES LA PECHE ET L'AQUACULTURE (FEAMPA)
B4: Ce fichier regroupe les annexes techniques du formulaire de demande FEAMPA
B7: ANNEXE 1 | C7: Dépenses previsionnelles
B8: ANNEXE 2 | C8: Dépenses de personnel
B9: ANNEXE 3 | C9: Synthèse
B14: Ce document est à renseigner pour toutes demandes d'aide, les montants générés automatiquement Annexe 3 seront à
B15: reporter dans l'onglet plan de financement de votre demande sur "Mes Demarches en Nouvelle-aquitaine" https://mes-demarches.nouvelle-aquitaine.fr
B17: Lorsque l'opération est mise en œuvre par un partenariat : tous les partenaires (chef de file compris) renseignent individuellement les annexes 1 et 2
B18: Le chef de file synthétise les informations du projet dans les annexes ainsi que sur la demande en ligne
B21: Légende document: | E21: Cellule remplie automatiquement avec une formule
E22: Cellule à compléter

Sheet ANXE_1_DEPENSES_PREVISION
B2: ANNEXE 1: DEPENSES PREVISIONNELLES
B3: FONDS EUROPEEN POUR LES AFFAIRES MARITIMES, LA PECHE ET L'AQUACULTURE (FEAMPA)
B5: Porteur du projet :
B6: Intitulé du projet :
D8: Montant présenté préciser: | F8: TTC
D9: TOTAL | E9: =SUM(E12:E400) -> 0
B11: Type de dépense | C11: Description de la dépense | D11: Dénomination du fournisseur | E11: Montant pévisionnel | F11: Année 1 | G11: Année 2 | H11: Année 3 | I11: Commentaires
B12: Dépenses de personnel | E12: =IFERROR(ANXE_2_DEPENSES_PERS!K27,0) -> 0 | J12: Remarque: Si votre dossier contient des salaires, remplissez l'annexe 2, les montants se reporteront automatiquement dans les cellules.
B13: OCS 15% Frais generaux | E13: =ANXE_2_DEPENSES_PERS!K29 -> 0
B400: Frais généraux 15%
B421: Dépenses de déplacements/frais de mission
B422: Matériel/équipements
B423: Travaux
B424: Prestations de service
B425: Achats divers/consommables
B426: Achats de terrain/bien immeuble
B427: Dépenses d'amortissement
B428: Contributions en nature
B429: Autres
B431: Montants retenus
B433: TTC
B434: HT

Sheet ANXE_2_DEPENSES_PERS
B2: ANNEXE 2: DEPENSE DE PERSONNEL
B3: FONDS EUROPEEN POUR LES AFFAIRES MARITIMES, LA PECHE ET L'AQUACULTURE (FEAMPA)
B5: Porteur du projet : | D5: =ANXE_1_DEPENSES_PREVISION!C5 -> 0
B6: Intitulé du projet : | D6: =ANXE_1_DEPENSES_PREVISION!C6 -> 0
D9: Montant TOTAL: | E9: =K27 -> 0
D10: 15% Frais Généraux: | E10: =K29 -> 0
C13: Nom du salarié Ou matricule | D13: Mission | E13: Salaire brut | F13: Charges patronales | G13: Salaire chargé | H13: Temps de travail sur la période du projet | I13: Coût horaire | J13: Temps de travail consacré au projet | K13: Montant affecté au projet
E14: (1) | F14: (2) | G14: (1) + (2) = (3) | H14: (4) | I14: (3)/(4)=(5) | J14: (6) | K14: (5)*(6)
G15: =SUM(E15,F15) -> 0 | I15: =IFERROR(G15/H15,0) -> 0 | K15: =I15*J15 -> 0
G16: =SUM(E16,F16) -> 0 | I16: =IFERROR(G16/H16,0) -> 0 | K16: =I16*J16 -> 0
G17: =SUM(E17,F17) -> 0 | I17: =IFERROR(G17/H17,0) -> 0 | K17: =I17*J17 -> 0
G18: =SUM(E18,F18) -> 0 | I18: =IFERROR(G18/H18,0) -> 0 | K18: =I18*J18 -> 0
G19: =SUM(E19,F19) -> 0 | I19: =IFERROR(G19/H19,0) -> 0 | K19: =I19*J19 -> 0
G20: =SUM(E20,F20) -> 0 | I20: =IFERROR(G20/H20,0) -> 0 | K20: =I20*J20 -> 0
G21: =SUM(E21,F21) -> 0 | I21: =IFERROR(G21/H21,0) -> 0 | K21: =I21*J21 -> 0
G22: =SUM(E22,F22) -> 0 | I22: =IFERROR(G22/H22,0) -> 0 | K22: =I22*J22 -> 0
G23: =SUM(E23,F23) -> 0 | I23: =IFERROR(G23/H23,0) -> 0 | K23: =I23*J23 -> 0
G24: =SUM(E24,F24) -> 0 | I24: =IFERROR(G24/H24,0) -> 0 | K24: =I24*J24 -> 0
G25: =SUM(E25,F25) -> 0 | I25: =IFERROR(G25/H25,0) -> 0 | K25: =I25*J25 -> 0
G26: =SUM(E26,F26) -> 0 | I26: =IFERROR(G26/H26,0) -> 0 | K26: =I26*J26 -> 0
C27: Montant TOTAL | K27: =SUM(K15:K26) -> 0
C28: Souhaitez-vous activer l'option de coût simplifié Frais généraux (15% des dépenses directes de personnels liées à l'opération)?
C29: Si OUI: | K29: =IF(K28="oui",K27*0.15,0) -> 0
C30: Structure soumise à la taxe sur les salaires?
C31: Taxe sur les salaires : % d'abattement
B188: oui
B189: non

Sheet ANXE_3_SYNTHESE
B2: ANNEXE 3: SYNTHESE
B3: FONDS EUROPEEN POUR LES AFFAIRES MARITIMES, LA PECHE ET L'AQUACULTURE (FEAMPA)
B5: Porteur du projet : | D5: =ANXE_1_DEPENSES_PREVISION!C5 -> 0
B6: Intitulé du projet : | D6: =ANXE_1_DEPENSES_PREVISION!C6 -> 0
C9: Type de Depense | D9: Montant total
C10: Dépenses Personnels
D11: =ANXE_1_DEPENSES_PREVISION!E12 -> 0
C12: OCS 15% Frais generaux
D13: =ANXE_1_DEPENSES_PREVISION!E13 -> 0
C14: Dépenses de déplacements/frais de mission
D15: =SUMIF(ANXE_1_DEPENSES_PREVISION!B12:B399,"Dépenses de déplacements/frais de mission",ANXE_1_DEPENSES_PREVISION!E12:E400) -> 0
C16: Travaux
D17: =SUMIF(ANXE_1_DEPENSES_PREVISION!B12:B399,"Travaux",ANXE_1_DEPENSES_PREVISION!E12:E400) -> 0
C18: Matériel/équipements
D19: =SUMIF(ANXE_1_DEPENSES_PREVISION!B12:B400,"Matériel/équipements",ANXE_1_DEPENSES_PREVISION!E12:E401) -> 0
C20: Prestations de service
D21: =SUMIF(ANXE_1_DEPENSES_PREVISION!B12:B400,"Prestations de service",ANXE_1_DEPENSES_PREVISION!E12:E400) -> 0
C22: Achats divers/consommables
D23: =SUMIF(ANXE_1_DEPENSES_PREVISION!B12:B400,"Achats divers/consommables",ANXE_1_DEPENSES_PREVISION!E12:E400) -> 0
C24: Achats de terrain/bien immeuble
D25: =SUMIF(ANXE_1_DEPENSES_PREVISION!B12:B400,"Achats de terrain/bien immeuble",ANXE_1_DEPENSES_PREVISION!E12:E400) -> 0
C26: Dépenses d'amortissement
D27: =SUMIF(ANXE_1_DEPENSES_PREVISION!B17:B400,"Dépenses d'amortissement",ANXE_1_DEPENSES_PREVISION!E17:E400) -> 0
C28: Contributions en nature
D29: =SUMIF(ANXE_1_DEPENSES_PREVISION!B12:B400,"Contributions en nature",ANXE_1_DEPENSES_PREVISION!E12:E400) -> 0
C30: Autres
D31: =SUMIF(ANXE_1_DEPENSES_PREVISION!B12:B400,"Autres",ANXE_1_DEPENSES_PREVISION!E12:E400) -> 0
C32: TOTAL Projet | D32: =SUM(D10:D31) -> 0
C35: Le montant total de chaque type de dépense est à reporter dans l'onglet "plan de financement" (exemple tableau ci-dessous) de votre demande d'aide sur "Mes Demarches en Nouvelle-Aquitaine"

Sheet ANXE_INST_DEPENSES
B2: ANNEXE Instructions: DEPENSES PREVISIONNELLES
B3: FONDS EUROPEEN POUR LES AFFAIRES MARITIMES, LA PECHE ET L'AQUACULTURE (FEAMPA) | L3: lll
B5: Porteur du projet : | C5: =ANXE_1_DEPENSES_PREVISION!C5 -> 0
B6: Intitulé du projet : | C6: =ANXE_1_DEPENSES_PREVISION!C6 -> 0
D8: Montant présenté : | F8: TTC | J8: Montant retenu : | L8: TTC
D9: TOTAL | E9: =SUM(E12:E400) -> 0 | J9: TOTAL | K9: =SUM(K12:K400) -> 0
B11: Poste de dépense | C11: Description de la dépense | D11: Dénomination du fournisseur | E11: Montant pévisionnel | F11: Année 1 | G11: Année 2 | H11: Année 3 | I11: Commentaires | J11: OCS / Plafond | K11: Montant retenu | L11: Commentaires
B12: Dépenses de personnel | E12: =IFERROR(ANXE_2_DEPENSES_PERS!K27,0) -> 0
B13: OCS 15% Frais generaux | E13: =ANXE_2_DEPENSES_PERS!K29 -> 0
B400: Frais généraux 15%
B421: Dépenses de déplacements/frais de mission
B422: Matériel/équipements
B423: Travaux
B424: Prestations de service
B425: Achats divers/consommables
B426: Achats de terrain/bien immeuble
B427: Dépenses d'amortissement
B428: Contributions en nature
B429: Autres
B431: Montants retenus
B433: TTC
B434: HT

Sheet ANXE_INST_DEPENSES_PERS
B2: ANNEXE Instruction: DEPENSE DE PERSONNEL
B3: FONDS EUROPEEN POUR LES AFFAIRES MARITIMES, LA PECHE ET L'AQUACULTURE (FEAMPA)
B5: Porteur du projet : | D5: =ANXE_INST_DEPENSES!C5 -> 0
B6: Intitulé du projet : | D6: =ANXE_INST_DEPENSES!C6 -> 0
D9: Montant TOTAL: | E9: =K27 -> 0
D10: 15% Frais Généraux: | E10: =K29 -> 0
C13: Nom du salarié Ou matricule | D13: Mission | E13: Salaire brut | F13: Charges patronales | G13: Salaire chargé | H13: Temps de travail sur la période du projet | I13: Coût horaire | J13: Temps de travail consacré au projet | K13: Montant affecté au projet
E14: (1) | F14: (2) | G14: (1) + (2) = (3) | H14: (4) | I14: (3)/(4)=(5) | J14: (6) | K14: (5)*(6)
G15: =SUM(E15,F15) -> 0 | I15: =IFERROR(G15/H15,0) -> 0 | K15: =I15*J15 -> 0
G16: =SUM(E16,F16) -> 0 | I16: =IFERROR(G16/H16,0) -> 0 | K16: =I16*J16 -> 0
G17: =SUM(E17,F17) -> 0 | I17: =IFERROR(G17/H17,0) -> 0 | K17: =I17*J17 -> 0
G18: =SUM(E18,F18) -> 0 | I18: =IFERROR(G18/H18,0) -> 0 | K18: =I18*J18 -> 0
G19: =SUM(E19,F19) -> 0 | I19: =IFERROR(G19/H19,0) -> 0 | K19: =I19*J19 -> 0
G20: =SUM(E20,F20) -> 0 | I20: =IFERROR(G20/H20,0) -> 0 | K20: =I20*J20 -> 0
G21: =SUM(E21,F21) -> 0 | I21: =IFERROR(G21/H21,0) -> 0 | K21: =I21*J21 -> 0
G22: =SUM(E22,F22) -> 0 | I22: =IFERROR(G22/H22,0) -> 0 | K22: =I22*J22 -> 0
G23: =SUM(E23,F23) -> 0 | I23: =IFERROR(G23/H23,0) -> 0 | K23: =I23*J23 -> 0
G24: =SUM(E24,F24) -> 0 | I24: =IFERROR(G24/H24,0) -> 0 | K24: =I24*J24 -> 0
G25: =SUM(E25,F25) -> 0 | I25: =IFERROR(G25/H25,0) -> 0 | K25: =I25*J25 -> 0
G26: =SUM(E26,F26) -> 0 | I26: =IFERROR(G26/H26,0) -> 0 | K26: =I26*J26 -> 0
C27: Montant TOTAL | K27: =SUM(K15:K26) -> 0
C28: Souhaitez-vous activer l'option de coût simplifié Frais généraux (15% des dépenses directes de personnels liées à l'opération)?
C29: Si OUI: | K29: =IF(K28="oui",K27*0.15,0) -> 0
C30: Structure soumise à la taxe sur les salaires?
C31: Taxe sur les salaires : % d'abattement
D35: Montant TOTAL Instruction: | E35: =K53 -> 0
D36: 15% Frais Généraux: | E36: =K55 -> 0
C39: Nom du salarié Ou matricule | D39: Mission | E39: Salaire brut | F39: Charges patronales | G39: Salaire chargé | H39: Temps de travail sur la période du projet | I39: Coût horaire | J39: Temps de travail consacré au projet | K39: Montant affecté au projet
E40: (1) | F40: (2) | G40: (1) + (2) = (3) | H40: (4) | I40: (3)/(4)=(5) | J40: (6) | K40: (5)*(6)
G41: =SUM(E41,F41) -> 0 | I41: =IFERROR(G41/H41,0) -> 0 | K41: =I41*J41 -> 0
G42: =SUM(E42,F42) -> 0 | I42: =IFERROR(G42/H42,0) -> 0 | K42: =I42*J42 -> 0
G43: =SUM(E43,F43) -> 0 | I43: =IFERROR(G43/H43,0) -> 0 | K43: =I43*J43 -> 0
G44: =SUM(E44,F44) -> 0 | I44: =IFERROR(G44/H44,0) -> 0 | K44: =I44*J44 -> 0
G45: =SUM(E45,F45) -> 0 | I45: =IFERROR(G45/H45,0) -> 0 | K45: =I45*J45 -> 0
G46: =SUM(E46,F46) -> 0 | I46: =IFERROR(G46/H46,0) -> 0 | K46: =I46*J46 -> 0
G47: =SUM(E47,F47) -> 0 | I47: =IFERROR(G47/H47,0) -> 0 | K47: =I47*J47 -> 0
G48: =SUM(E48,F48) -> 0 | I48: =IFERROR(G48/H48,0) -> 0 | K48: =I48*J48 -> 0
G49: =SUM(E49,F49) -> 0 | I49: =IFERROR(G49/H49,0) -> 0 | K49: =I49*J49 -> 0
G50: =SUM(E50,F50) -> 0 | I50: =IFERROR(G50/H50,0) -> 0 | K50: =I50*J50 -> 0
G51: =SUM(E51,F51) -> 0 | I51: =IFERROR(G51/H51,0) -> 0 | K51: =I51*J51 -> 0
...

Sheet ANXE_INST_SYNTHESE
B2: ANNEXE 3: SYNTHESE
B3: FONDS EUROPEEN POUR LES AFFAIRES MARITIMES, LA PECHE ET L'AQUACULTURE (FEAMPA)
B5: Porteur du projet : | D5: =ANXE_INST_DEPENSES!C5 -> 0
B6: Intitulé du projet : | D6: =ANXE_INST_DEPENSES!C6 -> 0
C9: Type de Depense | D9: Montant total | F9: Type de Depense | G9: Montant total
C10: Dépenses Personnels | F10: Dépenses Personnels
D11: =ANXE_1_DEPENSES_PREVISION!E12 -> 0 | G11: =ANXE_INST_DEPENSES!K12 -> 0
C12: OCS 15% Frais generaux | F12: OCS 15% Frais generaux
D13: =ANXE_1_DEPENSES_PREVISION!E13 -> 0 | G13: =ANXE_INST_DEPENSES!K13 -> 0
C14: Dépenses de déplacements/frais de mission | F14: Dépenses de déplacements/frais de mission
D15: =SUMIF(ANXE_1_DEPENSES_PREVISION!B12:B399,"Dépenses de déplacements/frais de mission",ANXE_1_DEPENSES_PREVISION!E12:E400) -> 0 | G15: =SUMIF(ANXE_INST_DEPENSES!B12:B399,"Dépenses de déplacements/frais de mission",ANXE_INST_DEPENSES!K12:K400) -> 0
C16: Travaux | F16: Travaux
D17: =SUMIF(ANXE_1_DEPENSES_PREVISION!B12:B399,"Travaux",ANXE_1_DEPENSES_PREVISION!E12:E400) -> 0 | G17: =SUMIF(ANXE_INST_DEPENSES!B12:B399,"Travaux",ANXE_INST_DEPENSES!K12:K400) -> 0
C18: Matériel/équipements | F18: Matériel/équipements
D19: =SUMIF(ANXE_1_DEPENSES_PREVISION!B12:B400,"Matériel/équipements",ANXE_1_DEPENSES_PREVISION!E12:E401) -> 0 | G19: =SUMIF(ANXE_INST_DEPENSES!B12:B399,"Matériel/équipements",ANXE_INST_DEPENSES!K12:K400) -> 0
C20: Prestations de service | F20: Prestations de service
D21: =SUMIF(ANXE_1_DEPENSES_PREVISION!B12:B400,"Prestations de service",ANXE_1_DEPENSES_PREVISION!E12:E400) -> 0 | G21: =SUMIF(ANXE_INST_DEPENSES!B12:B401,"Prestations de service",ANXE_INST_DEPENSES!K12:K402) -> 0
C22: Achats divers/consommables | F22: Achats divers/consommables
D23: =SUMIF(ANXE_1_DEPENSES_PREVISION!B12:B400,"Achats divers/consommables",ANXE_1_DEPENSES_PREVISION!E12:E400) -> 0 | G23: =SUMIF(ANXE_INST_DEPENSES!B12:B400,"Achats divers/consommables",ANXE_INST_DEPENSES!K12:K400) -> 0
C24: Achats de terrain/bien immeuble | F24: Achats de terrain/bien immeuble
D25: =SUMIF(ANXE_1_DEPENSES_PREVISION!B12:B400,"Achats de terrain/bien immeuble",ANXE_1_DEPENSES_PREVISION!E12:E400) -> 0 | G25: =SUMIF(ANXE_INST_DEPENSES!B12:B400,"Achats de terrain/bien immeuble",ANXE_INST_DEPENSES!K12:K400) -> 0
C26: Dépenses d'amortissement | F26: Dépenses d'amortissement
D27: =SUMIF(ANXE_1_DEPENSES_PREVISION!B17:B400,"Dépenses d'amortissement",ANXE_1_DEPENSES_PREVISION!E17:E400) -> 0 | G27: =SUMIF(ANXE_INST_DEPENSES!B12:B400,"Dépenses d'amortissement",ANXE_INST_DEPENSES!K12:K400) -> 0
C28: Contributions en nature | F28: Contributions en nature
D29: =SUMIF(ANXE_1_DEPENSES_PREVISION!B12:B400,"Contributions en nature",ANXE_1_DEPENSES_PREVISION!E12:E400) -> 0 | G29: =SUMIF(ANXE_INST_DEPENSES!B12:B409,"Contributions en nature",ANXE_INST_DEPENSES!K12:K410) -> 0
C30: Autres | F30: Autres
D31: =SUMIF(ANXE_1_DEPENSES_PREVISION!B12:B400,"Autres",ANXE_1_DEPENSES_PREVISION!E12:E400) -> 0 | G31: =SUMIF(ANXE_INST_DEPENSES!B12:B400,"Autres",ANXE_INST_DEPENSES!K12:K400) -> 0
C32: TOTAL Projet | D32: =ANXE_3_SYNTHESE!D32 -> 0 | F32: TOTAL Projet | G32: =SUM(G10:G31) -> 0
C38: Les valeurs de ce tableau sont à reporter dans l'onglet plan de financement de votre demande d'aide sur "Mes Demarches en Nouvelle-Aquitaine"

Sheet Importfeuil
B1: Cadre réservé à l'administration
B4: 1- Séléctionner L'OS concerné par le Dossier dans la liste ci-dessous
B7: OS concerné:
B10: 2- Appuyer sur le bouton ci-dessous pour importer les annexes correspondantes à l'OS selectionné et nécéssaire à l'instructuion du dossier
B17: 3- Appuyer sur le bouton ci-dessous pour importer les données saisies par le demandeur.
A101: OS1.1.1-MODERN
A102: OS1.1.1-InvestPorts
A103: OS1.1.1-Cons&Form+ActionsCo
A104: OS1.1.1-RDI
A105: OS1.1.2-Installation
A106: OS1.1.2-Jauge
A107: OS1.2-Moteurs
A108: OS1.6-Innovation
A109: OS1.6-LutteDéchets
A110: OS2.1-MODERN&Installation
A111: OS2.1-RDI
A112: OS2.1-ActionsCo&Comm
... A115: OS2.2-ActionsCo&Comm
